BEGIN:VCALENDAR
VERSION:2.0
PRODID:-//habitatfco.org//NONSGML kigkonsult.se iCalcreator 2.30.10//
CALSCALE:GREGORIAN
METHOD:PUBLISH
UID:c35def71-2ea2-41d4-a48a-5459b55a1e20
X-WR-CALDESC:6 volunteers are needed to build a ramp and stairs for an elde
 rly couple.  Skilled and unskilled volunteers welcomed - our team leaders 
 will guide your activities.
X-WR-RELCALID:7e19680e3524a335addffe6e93cd67eb
X-WR-TIMEZONE:America/New_York
BEGIN:VTIMEZONE
TZID:America/New_York
BEGIN:STANDARD
TZNAME:EST
DTSTART:20231105T020000
TZOFFSETFROM:-0400
TZOFFSETTO:-0500
RDATE:20241103T020000
RDATE:20251102T020000
END:STANDARD
BEGIN:DAYLIGHT
TZNAME:EDT
DTSTART:20240310T020000
TZOFFSETFROM:-0500
TZOFFSETTO:-0400
RDATE:20250309T020000
END:DAYLIGHT
END:VTIMEZONE
BEGIN:VEVENT
UID:bdd080f8-4dbe-4cc0-91db-66144f0b1356
DTSTAMP:20260421T031717Z
DESCRIPTION:6 volunteers are needed to build a ramp and stairs for an elder
 ly couple.  Skilled and unskilled volunteers welcomed - our team leaders w
 ill guide your activities.
DTSTART;TZID=America/New_York:20240726T080000
DTEND;TZID=America/New_York:20240726T160000
LOCATION:3402 State Route 109 (mobile home park south of Delta)\, Lot #30 (
 follow Park driveway around to back of Park)\, Delta\, OH 43515 US
SUMMARY:Work Day @ 3402 St Rte 109\, Delta (Lot #30)-Ramp Build
END:VEVENT
END:VCALENDAR
