BEGIN:VCALENDAR
VERSION:2.0
PRODID:-//habitatfco.org//NONSGML kigkonsult.se iCalcreator 2.30.10//
CALSCALE:GREGORIAN
METHOD:PUBLISH
UID:86e5b6ba-413e-4ba7-be51-e28c3f5bd027
X-WR-CALDESC:Habitat for Humanity is accepting applications for the homeown
 ership program and holding an INFO MEETING for interested applicants.  No 
 appointment needed - come any time between 5pm and 7:30pm.  Bring income a
 nd expense documentation if you want help filling out an application.
X-WR-RELCALID:2793f802b0a9850f08375ac79872fd33
X-WR-TIMEZONE:America/New_York
BEGIN:VTIMEZONE
TZID:America/New_York
BEGIN:STANDARD
TZNAME:EST
DTSTART:20211107T020000
TZOFFSETFROM:-0400
TZOFFSETTO:-0500
RDATE:20221106T020000
RDATE:20231105T020000
END:STANDARD
BEGIN:DAYLIGHT
TZNAME:EDT
DTSTART:20220313T020000
TZOFFSETFROM:-0500
TZOFFSETTO:-0400
RDATE:20230312T020000
RDATE:20240310T020000
END:DAYLIGHT
END:VTIMEZONE
BEGIN:VEVENT
UID:3bae71a7-1800-45a7-8c6f-8ae183b5f9dd
DTSTAMP:20260424T224746Z
DESCRIPTION:Habitat for Humanity is accepting applications for the homeowne
 rship program and holding an INFO MEETING for interested applicants.  No a
 ppointment needed - come any time between 5pm and 7:30pm.  Bring income an
 d expense documentation if you want help filling out an application.
DTSTART;TZID=America/New_York:20220919T170000
DTEND;TZID=America/New_York:20220919T193000
LOCATION:211 S. Fulton Street\, Wauseon (Premier Bank)
SUMMARY:Info Meeting-Homeownership Applicants
END:VEVENT
END:VCALENDAR
