BEGIN:VCALENDAR
VERSION:2.0
PRODID:-//habitatfco.org//NONSGML kigkonsult.se iCalcreator 2.30.10//
CALSCALE:GREGORIAN
METHOD:PUBLISH
UID:94fb75ed-fb05-4cec-89a8-168357aced0d
X-WR-CALDESC:
X-WR-RELCALID:8592a323afb62a94750585c7dcf2e199
X-WR-TIMEZONE:America/New_York
BEGIN:VTIMEZONE
TZID:America/New_York
BEGIN:STANDARD
TZNAME:EST
DTSTART:20211107T020000
TZOFFSETFROM:-0400
TZOFFSETTO:-0500
RDATE:20221106T020000
RDATE:20231105T020000
END:STANDARD
BEGIN:DAYLIGHT
TZNAME:EDT
DTSTART:20220313T020000
TZOFFSETFROM:-0500
TZOFFSETTO:-0400
RDATE:20230312T020000
RDATE:20240310T020000
END:DAYLIGHT
END:VTIMEZONE
BEGIN:VEVENT
UID:ffc665ed-3949-4d9a-853c-2be8ad7d3f3e
DTSTAMP:20260424T222624Z
DESCRIPTION:
DTSTART;TZID=America/New_York:20221008T080000
DTEND;TZID=America/New_York:20221008T160000
LOCATION:908 Zenobia Street\, Wauseon\, OH 43567 US
SUMMARY:Volunteer Work Day @ 908 Zenobia
END:VEVENT
END:VCALENDAR
