BEGIN:VCALENDAR
VERSION:2.0
PRODID:-//habitatfco.org//NONSGML kigkonsult.se iCalcreator 2.30.10//
CALSCALE:GREGORIAN
METHOD:PUBLISH
UID:1f608c0e-0982-4499-998b-1fcbe0647a38
X-WR-CALDESC:
X-WR-RELCALID:22919d9c74473eaf8fe77da297ba4840
X-WR-TIMEZONE:America/New_York
BEGIN:VTIMEZONE
TZID:America/New_York
BEGIN:STANDARD
TZNAME:EST
DTSTART:20211107T020000
TZOFFSETFROM:-0400
TZOFFSETTO:-0500
RDATE:20221106T020000
RDATE:20231105T020000
END:STANDARD
BEGIN:DAYLIGHT
TZNAME:EDT
DTSTART:20220313T020000
TZOFFSETFROM:-0500
TZOFFSETTO:-0400
RDATE:20230312T020000
RDATE:20240310T020000
END:DAYLIGHT
END:VTIMEZONE
BEGIN:VEVENT
UID:38fd6ef8-5fa4-4243-b8a3-5e42bbadd37b
DTSTAMP:20260425T000939Z
DESCRIPTION:
DTSTART;TZID=America/New_York:20220929T090000
DTEND;TZID=America/New_York:20220929T140000
LOCATION:
SUMMARY:North Star BlueScope Steel Playhouse Projects (2)
END:VEVENT
END:VCALENDAR
