BEGIN:VCALENDAR
VERSION:2.0
PRODID:-//habitatfco.org//NONSGML kigkonsult.se iCalcreator 2.30.10//
CALSCALE:GREGORIAN
METHOD:PUBLISH
UID:ed7153c6-4c27-48ea-bf63-7e867a8fe63b
X-WR-CALDESC:
X-WR-RELCALID:c99510923fd7f8a1d93a8d23ba5c7770
X-WR-TIMEZONE:America/New_York
BEGIN:VTIMEZONE
TZID:America/New_York
BEGIN:STANDARD
TZNAME:EST
DTSTART:20211107T020000
TZOFFSETFROM:-0400
TZOFFSETTO:-0500
RDATE:20221106T020000
RDATE:20231105T020000
END:STANDARD
BEGIN:DAYLIGHT
TZNAME:EDT
DTSTART:20220313T020000
TZOFFSETFROM:-0500
TZOFFSETTO:-0400
RDATE:20230312T020000
END:DAYLIGHT
END:VTIMEZONE
BEGIN:VEVENT
UID:fbaf65ee-1c72-4de3-8f15-a367665c0243
DTSTAMP:20260425T021500Z
DESCRIPTION:
DTSTART;TZID=America/New_York:20220813T080000
DTEND;TZID=America/New_York:20220813T160000
LOCATION:908 Zenobia Street\, Wauseon\, OH 43567 US
SUMMARY:Volunteer Work Day @ 908 Zenobia
END:VEVENT
END:VCALENDAR
