BEGIN:VCALENDAR
VERSION:2.0
PRODID:-//habitatfco.org//NONSGML kigkonsult.se iCalcreator 2.30.10//
CALSCALE:GREGORIAN
METHOD:PUBLISH
UID:6d6d1085-f540-4e09-b2f2-118fe33ad77c
X-WR-CALDESC:
X-WR-RELCALID:ae12e3fabc81ef98c37f2dbf106fb63c
X-WR-TIMEZONE:America/New_York
BEGIN:VTIMEZONE
TZID:America/New_York
BEGIN:STANDARD
TZNAME:EST
DTSTART:20211107T020000
TZOFFSETFROM:-0400
TZOFFSETTO:-0500
RDATE:20221106T020000
RDATE:20231105T020000
END:STANDARD
BEGIN:DAYLIGHT
TZNAME:EDT
DTSTART:20220313T020000
TZOFFSETFROM:-0500
TZOFFSETTO:-0400
RDATE:20230312T020000
END:DAYLIGHT
END:VTIMEZONE
BEGIN:VEVENT
UID:a750604b-0b6f-44aa-ba88-791d07f76a6c
DTSTAMP:20260421T094100Z
DESCRIPTION:
DTSTART;TZID=America/New_York:20220902T080000
DTEND;TZID=America/New_York:20220902T160000
LOCATION:908 Zenobia Street\, Wauseon\, OH 43567 US
SUMMARY:Volunteer Work Day @ 908 Zenobia
END:VEVENT
END:VCALENDAR
