BEGIN:VCALENDAR
VERSION:2.0
PRODID:-//habitatfco.org//NONSGML kigkonsult.se iCalcreator 2.30.10//
CALSCALE:GREGORIAN
METHOD:PUBLISH
UID:97ba961e-b82f-4a52-a549-3c46c0b6234c
X-WR-CALDESC:
X-WR-RELCALID:51102773c3b8bc09b9720b32b6003e16
X-WR-TIMEZONE:America/New_York
BEGIN:VTIMEZONE
TZID:America/New_York
BEGIN:STANDARD
TZNAME:EST
DTSTART:20211107T020000
TZOFFSETFROM:-0400
TZOFFSETTO:-0500
RDATE:20221106T020000
RDATE:20231105T020000
END:STANDARD
BEGIN:DAYLIGHT
TZNAME:EDT
DTSTART:20220313T020000
TZOFFSETFROM:-0500
TZOFFSETTO:-0400
RDATE:20230312T020000
END:DAYLIGHT
END:VTIMEZONE
BEGIN:VEVENT
UID:44064fec-88e9-44ce-acd4-3cabe0c4ba2e
DTSTAMP:20260421T111008Z
DESCRIPTION:
DTSTART;TZID=America/New_York:20220827T080000
DTEND;TZID=America/New_York:20220827T160000
LOCATION:908 Zenobia Street\, Wauseon\, OH 43567 US
SUMMARY:Volunteer Work Day @ 908 Zenobia
END:VEVENT
END:VCALENDAR
