BEGIN:VCALENDAR
VERSION:2.0
PRODID:-//habitatfco.org//NONSGML kigkonsult.se iCalcreator 2.30.10//
CALSCALE:GREGORIAN
METHOD:PUBLISH
UID:b76ee62f-c60c-4f8d-80e4-6a6097740b8a
X-WR-CALDESC:Habitat for Humanity of Fulton County\, Ohio is inviting you t
 o a scheduled Zoom meeting.\n\nTopic: Habitat for Humanity Virtual Housing
  Fair - Questions and Answers - Selection Process\nTime: Dec 14\, 2020 07:
 00 PM Eastern Time (US and Canada)\n\nJoin Zoom Meeting\nhttps://us02web.z
 oom.us/j/82710873402?pwd=c2RuVko3U29LQ2l4cHNqV2dHazJDUT09\n\nMeeting ID: 8
 27 1087 3402\nPasscode: 079221\nOne tap mobile\n+13017158592\,\,8271087340
 2#\,\,\,\,\,\,0#\,\,079221# US (Washington D.C)\n+13126266799\,\,827108734
 02#\,\,\,\,\,\,0#\,\,079221# US (Chicago)\n\nDial by your location\n      
   +1 301 715 8592 US (Washington D.C)\n        +1 312 626 6799 US (Chicago
 )\n        +1 929 205 6099 US (New York)\n        +1 253 215 8782 US (Taco
 ma)\n        +1 346 248 7799 US (Houston)\n        +1 669 900 6833 US (San
  Jose)\nMeeting ID: 827 1087 3402\nPasscode: 079221\nFind your local numbe
 r: https://us02web.zoom.us/u/kcUkFAH5lq\n\n
X-WR-RELCALID:95414236b7a5ecffff3eb8783f4ac6ce
X-WR-TIMEZONE:America/New_York
BEGIN:VTIMEZONE
TZID:America/New_York
BEGIN:STANDARD
TZNAME:EST
DTSTART:20201101T020000
TZOFFSETFROM:-0400
TZOFFSETTO:-0500
RDATE:20211107T020000
END:STANDARD
BEGIN:DAYLIGHT
TZNAME:EDT
DTSTART:20200308T020000
TZOFFSETFROM:-0500
TZOFFSETTO:-0400
RDATE:20210314T020000
RDATE:20220313T020000
END:DAYLIGHT
END:VTIMEZONE
BEGIN:VEVENT
UID:df1290a8-8d24-442c-806e-ca32655b14f7
DTSTAMP:20260425T003233Z
DESCRIPTION:Habitat for Humanity of Fulton County\, Ohio is inviting you to
  a scheduled Zoom meeting.\n\nTopic: Habitat for Humanity Virtual Housing 
 Fair - Questions and Answers - Selection Process\nTime: Dec 14\, 2020 07:0
 0 PM Eastern Time (US and Canada)\n\nJoin Zoom Meeting\nhttps://us02web.zo
 om.us/j/82710873402?pwd=c2RuVko3U29LQ2l4cHNqV2dHazJDUT09\n\nMeeting ID: 82
 7 1087 3402\nPasscode: 079221\nOne tap mobile\n+13017158592\,\,82710873402
 #\,\,\,\,\,\,0#\,\,079221# US (Washington D.C)\n+13126266799\,\,8271087340
 2#\,\,\,\,\,\,0#\,\,079221# US (Chicago)\n\nDial by your location\n       
  +1 301 715 8592 US (Washington D.C)\n        +1 312 626 6799 US (Chicago)
 \n        +1 929 205 6099 US (New York)\n        +1 253 215 8782 US (Tacom
 a)\n        +1 346 248 7799 US (Houston)\n        +1 669 900 6833 US (San 
 Jose)\nMeeting ID: 827 1087 3402\nPasscode: 079221\nFind your local number
 : https://us02web.zoom.us/u/kcUkFAH5lq\n\n
DTSTART;TZID=America/New_York:20201214T190000
DTEND;TZID=America/New_York:20201214T200000
LOCATION:https://us02web.zoom.us/j/82710873402?pwd=c2RuVko3U29LQ2l4cHNqV2dH
 azJDUT09
SUMMARY:Habitat Virtual Housing Fair-Questions and Answers
END:VEVENT
END:VCALENDAR
