BEGIN:VCALENDAR
VERSION:2.0
PRODID:-//habitatfco.org//NONSGML kigkonsult.se iCalcreator 2.30.10//
CALSCALE:GREGORIAN
METHOD:PUBLISH
UID:626f2512-379d-45aa-bfa4-a9daa07da7d1
X-WR-CALDESC:Please register for this virtual event by November 24.\n\nRegi
 stration enters you in our daily charitable donation drawings ranging from
  $500 to $10\,000 and gains you access to our event webpage.
X-WR-RELCALID:e674ee0ec0c15de6c145880f2b04999e
X-WR-TIMEZONE:America/New_York
BEGIN:VTIMEZONE
TZID:America/New_York
BEGIN:STANDARD
TZNAME:EST
DTSTART:20201101T020000
TZOFFSETFROM:-0400
TZOFFSETTO:-0500
RDATE:20211107T020000
END:STANDARD
BEGIN:DAYLIGHT
TZNAME:EDT
DTSTART:20200308T020000
TZOFFSETFROM:-0500
TZOFFSETTO:-0400
RDATE:20210314T020000
RDATE:20220313T020000
END:DAYLIGHT
END:VTIMEZONE
BEGIN:VEVENT
UID:69c51c93-7585-441d-81cf-eee54b97a140
DTSTAMP:20260425T004422Z
DESCRIPTION:Please register for this virtual event by November 24.\n\nRegis
 tration enters you in our daily charitable donation drawings ranging from 
 $500 to $10\,000 and gains you access to our event webpage.
DTSTART;TZID=America/New_York:20201201T073000
DTEND;TZID=America/New_York:20201201T233000
LOCATION:https://www.everence.com/everence-events/michiana/archbold/2020120
 1-givingtuesday419
SUMMARY:#GivingTuesday419-Difference Makers Expo
END:VEVENT
END:VCALENDAR
