BEGIN:VCALENDAR
VERSION:2.0
PRODID:-//habitatfco.org//NONSGML kigkonsult.se iCalcreator 2.30.10//
CALSCALE:GREGORIAN
METHOD:PUBLISH
UID:d0dd853f-7519-44b5-bf67-06f6ce407a12
X-WR-CALDESC:Anticipated Work (subject to change):  To Be Determined.
X-WR-RELCALID:7b4f8fadac54f16c45e16fe3d46c4c69
X-WR-TIMEZONE:America/New_York
BEGIN:VTIMEZONE
TZID:America/New_York
BEGIN:STANDARD
TZNAME:EST
DTSTART:20181104T020000
TZOFFSETFROM:-0400
TZOFFSETTO:-0500
RDATE:20191103T020000
RDATE:20201101T020000
END:STANDARD
BEGIN:DAYLIGHT
TZNAME:EDT
DTSTART:20190310T020000
TZOFFSETFROM:-0500
TZOFFSETTO:-0400
RDATE:20200308T020000
RDATE:20210314T020000
END:DAYLIGHT
END:VTIMEZONE
BEGIN:VEVENT
UID:b4987f73-cc7b-4002-9599-bd57a2f4bafa
DTSTAMP:20260426T043054Z
DESCRIPTION:Anticipated Work (subject to change):  To Be Determined.
DTSTART;TZID=America/New_York:20191025T080000
DTEND;TZID=America/New_York:20191025T160000
LOCATION:910 Zenobia Street\, Wauseon
SUMMARY:Volunteer Work Day-910 Zenobia
END:VEVENT
END:VCALENDAR
