BEGIN:VCALENDAR
VERSION:2.0
PRODID:-//habitatfco.org//NONSGML kigkonsult.se iCalcreator 2.30.10//
CALSCALE:GREGORIAN
METHOD:PUBLISH
UID:273fa29c-06d8-4d1c-a18f-f98911067d7c
X-WR-CALDESC:Anticipated Work (subject to change):  To Be Determined.
X-WR-RELCALID:f699c646e3465e90c83d5b24d61508ae
X-WR-TIMEZONE:America/New_York
BEGIN:VTIMEZONE
TZID:America/New_York
BEGIN:STANDARD
TZNAME:EST
DTSTART:20181104T020000
TZOFFSETFROM:-0400
TZOFFSETTO:-0500
RDATE:20191103T020000
RDATE:20201101T020000
END:STANDARD
BEGIN:DAYLIGHT
TZNAME:EDT
DTSTART:20190310T020000
TZOFFSETFROM:-0500
TZOFFSETTO:-0400
RDATE:20200308T020000
RDATE:20210314T020000
END:DAYLIGHT
END:VTIMEZONE
BEGIN:VEVENT
UID:8c4615e4-0f08-43ed-8747-29dfa60b4e81
DTSTAMP:20260426T043120Z
DESCRIPTION:Anticipated Work (subject to change):  To Be Determined.
DTSTART;TZID=America/New_York:20191018T080000
DTEND;TZID=America/New_York:20191018T160000
LOCATION:910 Zenobia Street\, Wauseon
SUMMARY:Volunteer Work Day-910 Zenobia
END:VEVENT
END:VCALENDAR
