BEGIN:VCALENDAR
VERSION:2.0
PRODID:-//habitatfco.org//NONSGML kigkonsult.se iCalcreator 2.30.10//
CALSCALE:GREGORIAN
METHOD:PUBLISH
UID:b5d67329-0ec2-4f80-8844-440147a405bb
X-WR-CALDESC:Anticipated Work (subject to change):  To Be Determined.
X-WR-RELCALID:b717d899080aa3401bf1a230289259ed
X-WR-TIMEZONE:America/New_York
BEGIN:VTIMEZONE
TZID:America/New_York
BEGIN:STANDARD
TZNAME:EST
DTSTART:20181104T020000
TZOFFSETFROM:-0400
TZOFFSETTO:-0500
RDATE:20191103T020000
RDATE:20201101T020000
END:STANDARD
BEGIN:DAYLIGHT
TZNAME:EDT
DTSTART:20190310T020000
TZOFFSETFROM:-0500
TZOFFSETTO:-0400
RDATE:20200308T020000
RDATE:20210314T020000
END:DAYLIGHT
END:VTIMEZONE
BEGIN:VEVENT
UID:8dd73540-c8db-4fc0-a1eb-b7ac1d781ef0
DTSTAMP:20260426T041307Z
DESCRIPTION:Anticipated Work (subject to change):  To Be Determined.
DTSTART;TZID=America/New_York:20191011T080000
DTEND;TZID=America/New_York:20191011T160000
LOCATION:910 Zenobia Street\, Wauseon
SUMMARY:Volunteer Work Day-910 Zenobia
END:VEVENT
END:VCALENDAR
