BEGIN:VCALENDAR
VERSION:2.0
PRODID:-//habitatfco.org//NONSGML kigkonsult.se iCalcreator 2.30.10//
CALSCALE:GREGORIAN
METHOD:PUBLISH
UID:25b6eceb-e74f-4ee8-b2b9-6ba93db846b0
X-WR-CALDESC:Anticipated Work (subject to change):  To Be Determined.
X-WR-RELCALID:172682c6fb3f80a3972a0158c7b4ff15
X-WR-TIMEZONE:America/New_York
BEGIN:VTIMEZONE
TZID:America/New_York
BEGIN:STANDARD
TZNAME:EST
DTSTART:20181104T020000
TZOFFSETFROM:-0400
TZOFFSETTO:-0500
RDATE:20191103T020000
RDATE:20201101T020000
END:STANDARD
BEGIN:DAYLIGHT
TZNAME:EDT
DTSTART:20190310T020000
TZOFFSETFROM:-0500
TZOFFSETTO:-0400
RDATE:20200308T020000
RDATE:20210314T020000
END:DAYLIGHT
END:VTIMEZONE
BEGIN:VEVENT
UID:cc8290f8-69c4-4e33-888a-48d1c926af67
DTSTAMP:20260426T042124Z
DESCRIPTION:Anticipated Work (subject to change):  To Be Determined.
DTSTART;TZID=America/New_York:20191005T080000
DTEND;TZID=America/New_York:20191005T160000
LOCATION:910 Zenobia Street\, Wauseon
SUMMARY:Volunteer Work Day-910 Zenobia
END:VEVENT
END:VCALENDAR
