BEGIN:VCALENDAR
VERSION:2.0
PRODID:-//habitatfco.org//NONSGML kigkonsult.se iCalcreator 2.30.10//
CALSCALE:GREGORIAN
METHOD:PUBLISH
UID:4d4a43c3-9ca8-4c71-86dd-3bd908db4689
X-WR-CALDESC:
X-WR-RELCALID:6af6c095f73db125c1e18181cfb0c703
X-WR-TIMEZONE:America/New_York
BEGIN:VTIMEZONE
TZID:America/New_York
BEGIN:STANDARD
TZNAME:EST
DTSTART:20211107T020000
TZOFFSETFROM:-0400
TZOFFSETTO:-0500
RDATE:20221106T020000
RDATE:20231105T020000
END:STANDARD
BEGIN:DAYLIGHT
TZNAME:EDT
DTSTART:20220313T020000
TZOFFSETFROM:-0500
TZOFFSETTO:-0400
RDATE:20230312T020000
RDATE:20240310T020000
END:DAYLIGHT
END:VTIMEZONE
BEGIN:VEVENT
UID:4cb048e5-471d-4c40-bd1f-a1c76a22f50a
DTSTAMP:20260424T215242Z
DESCRIPTION:
DTSTART;TZID=America/New_York:20221022T080000
DTEND;TZID=America/New_York:20221022T160000
LOCATION:908 Zenobia Street\, Wauseon\, OH 43567 US
SUMMARY:Volunteer Work Day @ 908 Zenobia
END:VEVENT
END:VCALENDAR
