BEGIN:VCALENDAR
VERSION:2.0
PRODID:-//habitatfco.org//NONSGML kigkonsult.se iCalcreator 2.30.10//
CALSCALE:GREGORIAN
METHOD:PUBLISH
UID:187b2bb4-3de5-454c-9fb3-60f0692cb1f3
X-WR-CALDESC:
X-WR-RELCALID:4c9103d555ce84a2cc9faf9fe2462a66
X-WR-TIMEZONE:America/New_York
BEGIN:VTIMEZONE
TZID:America/New_York
BEGIN:STANDARD
TZNAME:EST
DTSTART:20211107T020000
TZOFFSETFROM:-0400
TZOFFSETTO:-0500
RDATE:20221106T020000
RDATE:20231105T020000
END:STANDARD
BEGIN:DAYLIGHT
TZNAME:EDT
DTSTART:20220313T020000
TZOFFSETFROM:-0500
TZOFFSETTO:-0400
RDATE:20230312T020000
RDATE:20240310T020000
END:DAYLIGHT
END:VTIMEZONE
BEGIN:VEVENT
UID:71693f62-82e2-45e9-ba8a-320ae6dde150
DTSTAMP:20260424T222933Z
DESCRIPTION:
DTSTART;TZID=America/New_York:20221022T090000
DTEND;TZID=America/New_York:20221022T140000
LOCATION:
SUMMARY:Delta Business Playhouse Project
END:VEVENT
END:VCALENDAR
